BEGIN:VCALENDAR
VERSION:2.0
PRODID:-//Fabulous Fleischer Cartoons Restored - ECPv6.15.20//NONSGML v1.0//EN
CALSCALE:GREGORIAN
METHOD:PUBLISH
X-ORIGINAL-URL:https://fleischertoons.com
X-WR-CALDESC:Events for Fabulous Fleischer Cartoons Restored
REFRESH-INTERVAL;VALUE=DURATION:PT1H
X-Robots-Tag:noindex
X-PUBLISHED-TTL:PT1H
BEGIN:VTIMEZONE
TZID:UTC
BEGIN:STANDARD
TZOFFSETFROM:+0000
TZOFFSETTO:+0000
TZNAME:UTC
DTSTART:20250101T000000
END:STANDARD
END:VTIMEZONE
BEGIN:VEVENT
DTSTART;TZID=UTC:20260411T140000
DTEND;TZID=UTC:20260411T153000
DTSTAMP:20260421T214005
CREATED:20260315T022616Z
LAST-MODIFIED:20260315T022616Z
UID:1201-1775916000-1775921400@fleischertoons.com
SUMMARY:Art Theater - Long Beach\, CA
DESCRIPTION:Betty Boop invites you to indulge in a weekend of animated nostalgia\, featuring a captivating selection of Fabulous Fleischer Toons meticulously restored to their original glory! Immerse yourself in the whimsical world of classic cartoons as Betty Boop and her animated companions take center stage\, promising a delightful journey back in time for fans of vintage animation. Kids under 12 recieve free admission!
URL:https://fleischertoons.com/event/art-theater-long-beach-ca/
LOCATION:The Art Theatre\, 2025 E 4th St\, Long Beach\, CA\, 90814\, United States
END:VEVENT
BEGIN:VEVENT
DTSTART;TZID=UTC:20260412T140000
DTEND;TZID=UTC:20260412T153000
DTSTAMP:20260421T214005
CREATED:20260315T022706Z
LAST-MODIFIED:20260315T022706Z
UID:1203-1776002400-1776007800@fleischertoons.com
SUMMARY:Art Theater - Long Beach
DESCRIPTION:Betty Boop invites you to indulge in a weekend of animated nostalgia\, featuring a captivating selection of Fabulous Fleischer Toons meticulously restored to their original glory! Immerse yourself in the whimsical world of classic cartoons as Betty Boop and her animated companions take center stage\, promising a delightful journey back in time for fans of vintage animation. Kids under 12 recieve free admission!
URL:https://fleischertoons.com/event/art-theater-long-beach/
LOCATION:The Art Theatre\, 2025 E 4th St\, Long Beach\, CA\, 90814\, United States
END:VEVENT
BEGIN:VEVENT
DTSTART;TZID=UTC:20260418T130000
DTEND;TZID=UTC:20260418T143000
DTSTAMP:20260421T214005
CREATED:20260303T043529Z
LAST-MODIFIED:20260303T043529Z
UID:1178-1776517200-1776522600@fleischertoons.com
SUMMARY:Fine Arts Theatre Beverly Hills - Beverly Hills\, CA
DESCRIPTION:This is the premier of a brand new black of Fleischer Cartoon restorations on the big screen. Featuring Betty Boop\, Koko the Clown\, Superman and more! Join us for a Q&A after the show to learn about the history of Fleischer Studios from the restoration team in person will be Claire Fleischer\, Max’s great-granddaughter and Mauricio Alvarado.
URL:https://fleischertoons.com/event/fine-arts-theatre-beverly-hills-beverly-hills-ca-2/
LOCATION:Fine Arts Theatre Beverly Hills\, 8556 Wilshire Blvd\, Beverly Hills\, CA\, 90211\, United States
END:VEVENT
BEGIN:VEVENT
DTSTART;TZID=UTC:20260425T133000
DTEND;TZID=UTC:20260425T150000
DTSTAMP:20260421T214005
CREATED:20260407T010913Z
LAST-MODIFIED:20260407T010913Z
UID:1210-1777123800-1777129200@fleischertoons.com
SUMMARY:Cameo Arthouse - Fayetteville\, NC
DESCRIPTION:Max Fleischer’s ‘Betty Boop’ is on the big screen with a block of newly restored cartoons in 4K resolution! Join us Saturday\, April 25th at the CAMEO for a look at Betty’s evolution from poodle to human with her friends Grampy and Pudgy plus a special appearance by Cab Calloway. These cartoons always bring a good cheer so bring the entire family to celebrate ‘The Queen of the Animated Screen’. \nFeaturing: Dizzy Dishes\, Bimbo’s Express\, Dizzy Red Riding Hood\, Crazy Inventions\, Betty in Blunderland\, No! No! A Thousand Times No!!\, A Song a Day\, A Language All My Own\, More Pep\, Old Man of the Mountain\, and Poor Cinderella \nRated All Ages; Runtime 1hr 20min
URL:https://fleischertoons.com/event/cameo-arthouse-fayetteville-nc-3/
LOCATION:Cameo Arthouse\, 225 Hay Street\, Fayetteville\, NC\, 28301\, United States
END:VEVENT
BEGIN:VEVENT
DTSTART;VALUE=DATE:20260503
DTEND;VALUE=DATE:20260824
DTSTAMP:20260421T214005
CREATED:20260303T044146Z
LAST-MODIFIED:20260303T044146Z
UID:1182-1777766400-1787529599@fleischertoons.com
SUMMARY:Icons in Ink: The Jewish Comics Experience at the Maltz Museum - Beachwood\, OH
DESCRIPTION:Discover the powerful fusion of Jewish culture\, history\, and artistic expression through the lens of graphic storytelling in this dynamic traveling exhibition from the Center for Jewish History! \nIcons in Ink: The Jewish Comics Experience examines a wide range of Jewish themes and identities in comics\, recognizing the diverse roots that have contributed to this unique art form. The exhibition explores how the industry has evolved over the last century\, tackling subjects from identity and the combatting of antisemitism to the changing face of the medium itself. \nThe exhibition features original artworks\, rare archival pieces\, and historical artifacts spanning from classic newspaper strips to contemporary graphic novels\, highlighting iconic characters\, stories\, and creators. Visitors explore five distinct micro-exhibits that capture historic moments in the medium\, including The Jewish Origins of the Comic Book Industry\, Fighting Fascism\, A Brief History of Yiddish Comics\, Sephardi Identity and Memory in Comics\, and Mickey Mouse and Ashmedai: Hebrew Children’s Publications at a Momentous Time\, 1945-48. \nThe Maltz Museum’s presentation of The Jewish Comics Experience includes a new section focusing on Cleveland’s rich history of comic book creators and artists – CLEVELAND: HOME OF HEROES! \nThis exhibit also features a “comics laboratory”; an immersive area where visitors of all ages are invited to craft a comic book character through hands-on play with costumes and props. From Superman and Magneto to Captain American and Fantastic Four’s Thing\, visitors also learn the elements of sequential art and are instructed in the use of iconography to tell stories. By engaging with the tools of the form\, visitors immerse themselves in the process of making comics. \nExciting events and programming for all ages will be offered throughout the duration of The Jewish Comics Experience! \nSave the date: Sunday\, July 12th\, 2026 for a community-wide celebration featuring local and national comic book writers\, artists\, and fans. Check our Program Calendar Page for updates about this and other events as they become available.
URL:https://fleischertoons.com/event/icons-in-ink-the-jewish-comics-experience-at-the-maltz-museum-beachwood-oh/
LOCATION:Maltz Museum\, 2929 Richmond Rd\, Beachwood\, OH\, 44122\, United States
END:VEVENT
BEGIN:VEVENT
DTSTART;TZID=UTC:20260509T133000
DTEND;TZID=UTC:20260509T150000
DTSTAMP:20260421T214005
CREATED:20260407T011050Z
LAST-MODIFIED:20260407T011050Z
UID:1212-1778333400-1778338800@fleischertoons.com
SUMMARY:Cameo Arthouse - Fayetteville\, NC
DESCRIPTION:Max Fleischer was a trailblazer in the field of animation\, pushing the boundaries of surreal\, rubber-hose artistry and pioneering groundbreaking techniques such as Rotoscoping\, the Stereoptical process\, and early synchronized sound animation. Now\, thanks to the magic of digital restoration\, you can join us an unforgettable journey through animation history from the legendary Fleischer Studios\, featuring iconic characters like Betty Boop\, Koko the Clown\, Popeye\, and more—all brought back to life in stunning 4K restorations presented on the big screen at the CAMEO on Saturday\, May 9th! \nFeaturing: Betty Boop and Grampy\, Imps – Koko’s Klock\, Popeye -I’m in the Army Now\, Betty – Mother Goose Land\, Screen Songs – Dinah\, Color Classics – Tears of an Onion\, Imps – Koko’s Kozy Korner\, Betty Boops Bizzy Bee \nRated All Ages; Runtime 1hr 20min
URL:https://fleischertoons.com/event/cameo-arthouse-fayetteville-nc-4/
LOCATION:Cameo Arthouse\, 225 Hay Street\, Fayetteville\, NC\, 28301\, United States
END:VEVENT
END:VCALENDAR