BEGIN:VCALENDAR
VERSION:2.0
PRODID:-//Fabulous Fleischer Cartoons Restored - ECPv6.15.20//NONSGML v1.0//EN
CALSCALE:GREGORIAN
METHOD:PUBLISH
X-WR-CALNAME:Fabulous Fleischer Cartoons Restored
X-ORIGINAL-URL:https://fleischertoons.com
X-WR-CALDESC:Events for Fabulous Fleischer Cartoons Restored
REFRESH-INTERVAL;VALUE=DURATION:PT1H
X-Robots-Tag:noindex
X-PUBLISHED-TTL:PT1H
BEGIN:VTIMEZONE
TZID:America/Los_Angeles
BEGIN:DAYLIGHT
TZOFFSETFROM:-0800
TZOFFSETTO:-0700
TZNAME:PDT
DTSTART:20240310T100000
END:DAYLIGHT
BEGIN:STANDARD
TZOFFSETFROM:-0700
TZOFFSETTO:-0800
TZNAME:PST
DTSTART:20241103T090000
END:STANDARD
BEGIN:DAYLIGHT
TZOFFSETFROM:-0800
TZOFFSETTO:-0700
TZNAME:PDT
DTSTART:20250309T100000
END:DAYLIGHT
BEGIN:STANDARD
TZOFFSETFROM:-0700
TZOFFSETTO:-0800
TZNAME:PST
DTSTART:20251102T090000
END:STANDARD
BEGIN:DAYLIGHT
TZOFFSETFROM:-0800
TZOFFSETTO:-0700
TZNAME:PDT
DTSTART:20260308T100000
END:DAYLIGHT
BEGIN:STANDARD
TZOFFSETFROM:-0700
TZOFFSETTO:-0800
TZNAME:PST
DTSTART:20261101T090000
END:STANDARD
END:VTIMEZONE
BEGIN:VTIMEZONE
TZID:UTC
BEGIN:STANDARD
TZOFFSETFROM:+0000
TZOFFSETTO:+0000
TZNAME:UTC
DTSTART:20220101T000000
END:STANDARD
END:VTIMEZONE
BEGIN:VTIMEZONE
TZID:America/New_York
BEGIN:DAYLIGHT
TZOFFSETFROM:-0500
TZOFFSETTO:-0400
TZNAME:EDT
DTSTART:20240310T070000
END:DAYLIGHT
BEGIN:STANDARD
TZOFFSETFROM:-0400
TZOFFSETTO:-0500
TZNAME:EST
DTSTART:20241103T060000
END:STANDARD
BEGIN:DAYLIGHT
TZOFFSETFROM:-0500
TZOFFSETTO:-0400
TZNAME:EDT
DTSTART:20250309T070000
END:DAYLIGHT
BEGIN:STANDARD
TZOFFSETFROM:-0400
TZOFFSETTO:-0500
TZNAME:EST
DTSTART:20251102T060000
END:STANDARD
BEGIN:DAYLIGHT
TZOFFSETFROM:-0500
TZOFFSETTO:-0400
TZNAME:EDT
DTSTART:20260308T070000
END:DAYLIGHT
BEGIN:STANDARD
TZOFFSETFROM:-0400
TZOFFSETTO:-0500
TZNAME:EST
DTSTART:20261101T060000
END:STANDARD
END:VTIMEZONE
BEGIN:VTIMEZONE
TZID:America/Vancouver
BEGIN:DAYLIGHT
TZOFFSETFROM:-0800
TZOFFSETTO:-0700
TZNAME:PDT
DTSTART:20240310T100000
END:DAYLIGHT
BEGIN:STANDARD
TZOFFSETFROM:-0700
TZOFFSETTO:-0800
TZNAME:PST
DTSTART:20241103T090000
END:STANDARD
BEGIN:DAYLIGHT
TZOFFSETFROM:-0800
TZOFFSETTO:-0700
TZNAME:PDT
DTSTART:20250309T100000
END:DAYLIGHT
BEGIN:STANDARD
TZOFFSETFROM:-0700
TZOFFSETTO:-0800
TZNAME:PST
DTSTART:20251102T090000
END:STANDARD
BEGIN:DAYLIGHT
TZOFFSETFROM:-0800
TZOFFSETTO:-0700
TZNAME:PDT
DTSTART:20260308T100000
END:DAYLIGHT
BEGIN:STANDARD
TZOFFSETFROM:-0700
TZOFFSETTO:-0800
TZNAME:PST
DTSTART:20261101T090000
END:STANDARD
END:VTIMEZONE
BEGIN:VEVENT
DTSTART;TZID=America/Los_Angeles:20250307T190000
DTEND;TZID=America/Los_Angeles:20250307T190000
DTSTAMP:20260422T003908
CREATED:20250220T021335Z
LAST-MODIFIED:20250220T021335Z
UID:653-1741374000-1741374000@fleischertoons.com
SUMMARY:Charles M. Schultz Museum – Santa Rosa\, CA
DESCRIPTION:Join us for a special showcase of the Max Fleischer Superman cartoons on the big screen! The 1941-42 Fleischer Studios shorts were Superman’s first animated theatrical adventures that not only created a definitive style but went on to influence animated portrayals of other comic book characters such as Batman: The Animated Series. Long revered as among the best of the superhero cartoons\, these films are presented in newly restored 4K resolution from 35MM archival prints spearheaded by Max’s granddaughter\, Jane Fleischer Reid\, who will be in attendance to discuss the legacy of Fleischer Studios and the work she is doing to restore and present the films to a new audience.
URL:https://fleischertoons.com/event/charles-m-schultz-museum-santa-rosa-ca/
LOCATION:Charles M. Schulz Museum\, 2301 Hardies Lane\, Santa Rosa\, CA\, 95403\, United States
END:VEVENT
BEGIN:VEVENT
DTSTART;TZID=UTC:20250307T173000
DTEND;TZID=UTC:20250307T173000
DTSTAMP:20260422T003908
CREATED:20250220T014903Z
LAST-MODIFIED:20250220T014903Z
UID:640-1741368600-1741368600@fleischertoons.com
SUMMARY:Tivoli Cinema – Charlottetown\, PE Canada
DESCRIPTION:An hour block featuring a remastered collection of the animation of Max Fleischer\, including Betty Boop\, Superman\, Popeye and more!
URL:https://fleischertoons.com/event/tivoli-cinema-charlottetown-pe-canada/
LOCATION:Tivoli Cinema\, 155 Kent Street\, Charlottetown\, Prince Edward Island\, C1A5Y6\, Canada
END:VEVENT
BEGIN:VEVENT
DTSTART;TZID=America/Los_Angeles:20250302T110000
DTEND;TZID=America/Los_Angeles:20250302T110000
DTSTAMP:20260422T003908
CREATED:20250220T014623Z
LAST-MODIFIED:20250220T014829Z
UID:638-1740913200-1740913200@fleischertoons.com
SUMMARY:Ojai Playhouse – Ojai\, CA
DESCRIPTION:Created in the early 20th century by brothers Max and Dave Fleischer\, Fleischer Studios was a pioneer in the art and craft of animation and were responsible for creating and animating some of the most beloved characters in American animation Join us for a block of newly restored cartoons from Fleischer Studios with fan favorites such as Betty Boop\, Popeye\, Superman and more!
URL:https://fleischertoons.com/event/ojai-playhouse-ojai-ca/
LOCATION:Ojai Playhouse\, 145 E Ojai Ave\, Ojai\, CA\, 93023\, United States
END:VEVENT
BEGIN:VEVENT
DTSTART;TZID=America/Los_Angeles:20250227T193000
DTEND;TZID=America/Los_Angeles:20250227T193000
DTSTAMP:20260422T003908
CREATED:20250220T014433Z
LAST-MODIFIED:20250220T020725Z
UID:634-1740684600-1740684600@fleischertoons.com
SUMMARY:Los Angeles Filmforum – Los Angeles\, CA
DESCRIPTION:Experimentations 11: Our Heavenly Bodies (Rescheduled) including Max Fleischer’s “If We Lived on the Moon”. \nThree silent films from the 1920s demonstrate the state-of-the-art of the time. Two educational films from 1920\, “If We Lived on the Moon” by Max Fleischer\, later of Betty Boop and Superman cartoon fame\, and “Tides and the Moon” show basic illustrative educational films of the time. By the time of Our Heavenly Bodies\, released in 1925\, the cinematic possibilities had advanced greatly. Partly a summary of what was known about the solar system\, and partly a sci-fi journey on a ship to those planets\, Our Heavenly Bodies was a tremendous success in its time. \nLive music by Dave Harrington and Friends\, introduced by Jane de Almeida
URL:https://fleischertoons.com/event/los-angeles-filmforum-los-angeles-ca/
LOCATION:Los Angeles Filmforum\, 2220 W. Beverly Blvd.\, Los Angeles\, CA\, 90057\, United States
END:VEVENT
BEGIN:VEVENT
DTSTART;TZID=America/New_York:20250220T193000
DTEND;TZID=America/New_York:20250220T193000
DTSTAMP:20260422T003908
CREATED:20250220T015613Z
LAST-MODIFIED:20250220T015613Z
UID:649-1740079800-1740079800@fleischertoons.com
SUMMARY:Somerville Theatre – Somerville\, MA
DESCRIPTION:Fleischer Studios animation was darker\, more adult\, and more urban than that of Disney (their main competitor); their slinky\, surreal\, always morphing short films featured characters seemingly made of elastic.
URL:https://fleischertoons.com/event/somerville-theatre-somerville-ma-4/
LOCATION:Somerville Theatre\, 55 Davis Square\, Somerville\, MA\, 02144\, United States
END:VEVENT
BEGIN:VEVENT
DTSTART;TZID=America/New_York:20250220T173000
DTEND;TZID=America/New_York:20250220T173000
DTSTAMP:20260422T003908
CREATED:20250220T015515Z
LAST-MODIFIED:20250220T015515Z
UID:647-1740072600-1740072600@fleischertoons.com
SUMMARY:Somerville Theatre – Somerville\, MA
DESCRIPTION:Fleischer Studios animation was darker\, more adult\, and more urban than that of Disney (their main competitor); their slinky\, surreal\, always morphing short films featured characters seemingly made of elastic.
URL:https://fleischertoons.com/event/somerville-theatre-somerville-ma-3/
LOCATION:Somerville Theatre\, 55 Davis Square\, Somerville\, MA\, 02144\, United States
END:VEVENT
BEGIN:VEVENT
DTSTART;TZID=America/New_York:20250220T153000
DTEND;TZID=America/New_York:20250220T153000
DTSTAMP:20260422T003908
CREATED:20250220T013010Z
LAST-MODIFIED:20250220T015523Z
UID:631-1740065400-1740065400@fleischertoons.com
SUMMARY:Somerville Theatre – Somerville\, MA
DESCRIPTION:Fleischer Studios animation was darker\, more adult\, and more urban than that of Disney (their main competitor); their slinky\, surreal\, always morphing short films featured characters seemingly made of elastic.
URL:https://fleischertoons.com/event/somerville-theatre-somerville-ma-2/
LOCATION:Somerville Theatre\, 55 Davis Square\, Somerville\, MA\, 02144\, United States
END:VEVENT
BEGIN:VEVENT
DTSTART;TZID=America/New_York:20250219T193000
DTEND;TZID=America/New_York:20250219T193000
DTSTAMP:20260422T003908
CREATED:20250220T012757Z
LAST-MODIFIED:20250220T012757Z
UID:629-1739993400-1739993400@fleischertoons.com
SUMMARY:Somerville Theatre – Somerville\, MA
DESCRIPTION:Fleischer Studios animation was darker\, more adult\, and more urban than that of Disney (their main competitor); their slinky\, surreal\, always morphing short films featured characters seemingly made of elastic.
URL:https://fleischertoons.com/event/somerville-theatre-somerville-ma/
LOCATION:Somerville Theatre\, 55 Davis Square\, Somerville\, MA\, 02144\, United States
END:VEVENT
BEGIN:VEVENT
DTSTART;TZID=America/Vancouver:20250217T150000
DTEND;TZID=America/Vancouver:20250217T150000
DTSTAMP:20260422T003908
CREATED:20250205T192555Z
LAST-MODIFIED:20250205T192555Z
UID:606-1739804400-1739804400@fleischertoons.com
SUMMARY:VIFF Centre – Vancouver\, BC Canada
DESCRIPTION:In this specially curated package of vintage family-friendly cartoons from the 1920s and 30s by animation pioneer Max Fleischer\, the emphasis is on love and romance. Featuring Betty Boop & Bimbo the dog\, Popeye the Sailor Man and what is probably the first ever instance of the “moonwalk” move that would become Michael Jackson’s signature move. Newly restored in high definition\, these cartoons will look beautiful on the big screen!
URL:https://fleischertoons.com/event/viff-centre-vancouver-bc-canada-4/
LOCATION:VIFF Centre\, 1181 Seymour Street\, Vancouver\, British Columbia\, V6B 3M7\, Canada
END:VEVENT
BEGIN:VEVENT
DTSTART;TZID=America/Vancouver:20250215T113000
DTEND;TZID=America/Vancouver:20250215T113000
DTSTAMP:20260422T003908
CREATED:20250205T192444Z
LAST-MODIFIED:20250205T192444Z
UID:604-1739619000-1739619000@fleischertoons.com
SUMMARY:VIFF Centre – Vancouver\, BC Canada
DESCRIPTION:In this specially curated package of vintage family-friendly cartoons from the 1920s and 30s by animation pioneer Max Fleischer\, the emphasis is on love and romance. Featuring Betty Boop & Bimbo the dog\, Popeye the Sailor Man and what is probably the first ever instance of the “moonwalk” move that would become Michael Jackson’s signature move. Newly restored in high definition\, these cartoons will look beautiful on the big screen!
URL:https://fleischertoons.com/event/viff-centre-vancouver-bc-canada-3/
LOCATION:VIFF Centre\, 1181 Seymour Street\, Vancouver\, British Columbia\, V6B 3M7\, Canada
END:VEVENT
BEGIN:VEVENT
DTSTART;TZID=America/Vancouver:20250214T191000
DTEND;TZID=America/Vancouver:20250214T191000
DTSTAMP:20260422T003908
CREATED:20250205T192220Z
LAST-MODIFIED:20250205T192220Z
UID:602-1739560200-1739560200@fleischertoons.com
SUMMARY:VIFF Centre – Vancouver\, BC Canada
DESCRIPTION:In this specially curated package of vintage family-friendly cartoons from the 1920s and 30s by animation pioneer Max Fleischer\, the emphasis is on love and romance. Featuring Betty Boop & Bimbo the dog\, Popeye the Sailor Man and what is probably the first ever instance of the “moonwalk” move that would become Michael Jackson’s signature move. Newly restored in high definition\, these cartoons will look beautiful on the big screen!
URL:https://fleischertoons.com/event/viff-centre-vancouver-bc-canada-2/
LOCATION:VIFF Centre\, 1181 Seymour Street\, Vancouver\, British Columbia\, V6B 3M7\, Canada
END:VEVENT
BEGIN:VEVENT
DTSTART;TZID=UTC:20250214T190000
DTEND;TZID=UTC:20250214T190000
DTSTAMP:20260422T003908
CREATED:20250129T214631Z
LAST-MODIFIED:20250205T190443Z
UID:580-1739559600-1739559600@fleischertoons.com
SUMMARY:Northwest Film Forum – Seattle\, WA
DESCRIPTION:  \nNorthwest Film Forum is thrilled to announce a screening of eight classic and newly restored cartoons from the pioneering and immensely influential Max and Dave Fleischer in honor of our favorite Hallmark Holiday: Valentines Day. Most well-known for their original cartoons and characters Betty Boop\, Bimbo the Dog\, and Koko the Clown\, as well as their refreshing takes on popular characters like Popeye and Superman\, the Fleischer Brothers created a wide breadth of work that reached far into the depths of the fantastic and absurd while maintaining a strong hold on a unique approach to humor. \nThis program focuses on stories about ❤️lovers❤️ From Popeye and Olive Oyl rolling through the city on skates\, spaghetti limbs flailing about\, to Betty Boop as Cinderella courting her Prince Charming in her only color film appearance\, it’s impossible to not be head over heels with these films\, as well as whoever you’re enjoying them with. \nAs a special bonus\, this program will be hosted by the one and only Milo Harms\, who will be sure to woo you with his passionate love for all things Fleischer and give you a night you won’t soon forget 💚
URL:https://fleischertoons.com/event/northwest-film-forum-seattle-wa/
LOCATION:Northwest Film Forum\, 1515 12th Ave\, Seattle\, WA\, 98122\, United States
END:VEVENT
BEGIN:VEVENT
DTSTART;TZID=America/Vancouver:20250214T174500
DTEND;TZID=America/Vancouver:20250214T174500
DTSTAMP:20260422T003908
CREATED:20250205T192003Z
LAST-MODIFIED:20250205T192003Z
UID:600-1739555100-1739555100@fleischertoons.com
SUMMARY:VIFF Centre – Vancouver\, BC Canada
DESCRIPTION:In this specially curated package of vintage family-friendly cartoons from the 1920s and 30s by animation pioneer Max Fleischer\, the emphasis is on love and romance. Featuring Betty Boop & Bimbo the dog\, Popeye the Sailor Man and what is probably the first ever instance of the “moonwalk” move that would become Michael Jackson’s signature move. Newly restored in high definition\, these cartoons will look beautiful on the big screen!
URL:https://fleischertoons.com/event/viff-centre-vancouver-bc-canada/
LOCATION:VIFF Centre\, 1181 Seymour Street\, Vancouver\, British Columbia\, V6B 3M7\, Canada
END:VEVENT
BEGIN:VEVENT
DTSTART;TZID=UTC:20250209T140000
DTEND;TZID=UTC:20250209T140000
DTSTAMP:20260422T003908
CREATED:20250129T212204Z
LAST-MODIFIED:20250205T190435Z
UID:566-1739109600-1739109600@fleischertoons.com
SUMMARY:Majestic Gilbert 8 – Gilbert\, AZ
DESCRIPTION:  \nExperience the cartoons of Betty Boop like you have never seen them before\, restored and on the big screen! \nThis February\, from the visionary pioneer of animation\, Max Fleischer\, enjoy a collection of family-friendly restored animated romantic classics just in time for Valentine’s Day. Featuring Betty Boop & Pudgy\, Bimbo the dog\, KoKo the Clown\, Minnie the Moocher and more!
URL:https://fleischertoons.com/event/majestic-gilbert-8-gilbert-az/
LOCATION:Majestic Gilbert 8\, 5478 S. Power Rd\, Gilbert\, AZ\, 85295\, United States
END:VEVENT
BEGIN:VEVENT
DTSTART;TZID=UTC:20250208T170000
DTEND;TZID=UTC:20250208T170000
DTSTAMP:20260422T003908
CREATED:20250129T212449Z
LAST-MODIFIED:20250205T190434Z
UID:570-1739034000-1739034000@fleischertoons.com
SUMMARY:Majestic Tempe 7 – Tempe\, AZ
DESCRIPTION:  \nExperience the cartoons of Betty Boop like you have never seen them before\, restored and on the big screen! \nThis February\, from the visionary pioneer of animation\, Max Fleischer\, enjoy a collection of family-friendly restored animated romantic classics just in time for Valentine’s Day. Featuring Betty Boop & Pudgy\, Bimbo the dog\, KoKo the Clown\, Minnie the Moocher and more!
URL:https://fleischertoons.com/event/majestic-tempe-7-tempe-az-2/
LOCATION:Majestic Tempe 7\, 1140 E. Baseline Rd\, Tempe\, AZ\, 95283\, United States
END:VEVENT
BEGIN:VEVENT
DTSTART;TZID=UTC:20250208T170000
DTEND;TZID=UTC:20250208T170000
DTSTAMP:20260422T003908
CREATED:20250129T211620Z
LAST-MODIFIED:20250129T211620Z
UID:557-1739034000-1739034000@fleischertoons.com
SUMMARY:Majestic Chandler 9 – Chandler\, AZ
DESCRIPTION:Experience the cartoons of Betty Boop like you have never seen them before\, restored and on the big screen! \nThis February\, from the visionary pioneer of animation\, Max Fleischer\, enjoy a collection of family-friendly restored animated romantic classics just in time for Valentine’s Day. Featuring Betty Boop & Pudgy\, Bimbo the dog\, KoKo the Clown\, Minnie the Moocher and more!
URL:https://fleischertoons.com/event/majestic-chandler-9-chandler-az/
LOCATION:Majestic Chandler 9\, 4955 S. Arizona Ave\, Chandler\, AZ\, 85248\, United States
END:VEVENT
BEGIN:VEVENT
DTSTART;TZID=UTC:20250208T150000
DTEND;TZID=UTC:20250208T150000
DTSTAMP:20260422T003908
CREATED:20250129T212350Z
LAST-MODIFIED:20250129T212350Z
UID:568-1739026800-1739026800@fleischertoons.com
SUMMARY:Majestic Tempe 7 – Tempe\, AZ
DESCRIPTION:Experience the cartoons of Betty Boop like you have never seen them before\, restored and on the big screen! \nThis February\, from the visionary pioneer of animation\, Max Fleischer\, enjoy a collection of family-friendly restored animated romantic classics just in time for Valentine’s Day. Featuring Betty Boop & Pudgy\, Bimbo the dog\, KoKo the Clown\, Minnie the Moocher and more!
URL:https://fleischertoons.com/event/majestic-tempe-7-tempe-az/
LOCATION:Majestic Tempe 7\, 1140 E. Baseline Rd\, Tempe\, AZ\, 95283\, United States
END:VEVENT
BEGIN:VEVENT
DTSTART;TZID=UTC:20250208T140000
DTEND;TZID=UTC:20250208T140000
DTSTAMP:20260422T003908
CREATED:20250129T214009Z
LAST-MODIFIED:20250129T214009Z
UID:575-1739023200-1739023200@fleischertoons.com
SUMMARY:Bear Tooth Theatrepub – Anchorage\, AK
DESCRIPTION:This February\, from the visionary pioneer of animation\, Max Fleischer\, enjoy a collection of family-friendly restored animated romantic classics just in time for Valentine’s Day. Featuring Betty Boop & Bimbo the dog\, Popeye the Sailor Man and more! Newly restored in high definition\, these cartoons will look beautiful on the big screen!
URL:https://fleischertoons.com/event/bear-tooth-theatrepub-anchorage-ak/
LOCATION:Bear Tooth Theatrepub\, 1230 W. 27th Avenue\, Anchorage\, AK\, 99503\, United States
END:VEVENT
BEGIN:VEVENT
DTSTART;TZID=UTC:20240624T080000
DTEND;TZID=UTC:20240625T170000
DTSTAMP:20260422T003908
CREATED:20240522T204759Z
LAST-MODIFIED:20240522T204759Z
UID:537-1719216000-1719334800@fleischertoons.com
SUMMARY:Bryn Mawr Film Institute\, Bryn Mawr PA
DESCRIPTION:Join us for a screening of brand new restorations featuring the cartoons of Betty Boop\, Koko the Clown\, Popeye\, Superman\, and more! These films have been lovingly restored from original film elements by Max Fleischer’s granddaughter\, Jane.
URL:https://fleischertoons.com/event/bryn-mawr-film-institute-bryn-mawr-pa/
LOCATION:MI
END:VEVENT
BEGIN:VEVENT
DTSTART;TZID=UTC:20240616T153000
DTEND;TZID=UTC:20240616T170000
DTSTAMP:20260422T003908
CREATED:20240522T203903Z
LAST-MODIFIED:20240522T203903Z
UID:535-1718551800-1718557200@fleischertoons.com
SUMMARY:Cinetopia Film Festival\, Ann Arbor\, MI
DESCRIPTION:Join us for a screening of brand new restorations featuring the cartoons of Betty Boop\, Koko the Clown\, Popeye\, Superman\, and more! These films have been lovingly restored from original film elements by Max Fleischer’s granddaughter\, Jane.
URL:https://fleischertoons.com/event/cinetopia-film-festival-ann-arbor-mi/
LOCATION:MI
END:VEVENT
BEGIN:VEVENT
DTSTART;TZID=UTC:20240607T080000
DTEND;TZID=UTC:20240609T170000
DTSTAMP:20260422T003908
CREATED:20240522T203457Z
LAST-MODIFIED:20240522T203457Z
UID:533-1717747200-1717952400@fleischertoons.com
SUMMARY:Superman cartoons at the Superman Convention\, Metropolis\, IL
DESCRIPTION:Join us for newly restored Superman cartoons\, brought back to you from the 1940s!  \nCheck it out!
URL:https://fleischertoons.com/event/superman-cartoons-at-the-superman-convention-metropolis-il/
LOCATION:MI
END:VEVENT
BEGIN:VEVENT
DTSTART;TZID=UTC:20240606T190000
DTEND;TZID=UTC:20240606T200000
DTSTAMP:20260422T003908
CREATED:20240522T202752Z
LAST-MODIFIED:20240522T202752Z
UID:531-1717700400-1717704000@fleischertoons.com
SUMMARY:Proctors Collaborative\, Schenectady\, NY
DESCRIPTION:Join us for a night of brand new restorations featuring the cartoons of Betty Boop\, Koko the Clown\, Popeye\, Superman\, and more! These films have been lovingly restored from original film elements by Max Fleischer’s granddaughter\, Jane.
URL:https://fleischertoons.com/event/proctors-collaborative-schenectady-ny/
LOCATION:MI
END:VEVENT
BEGIN:VEVENT
DTSTART;TZID=UTC:20240602T150000
DTEND;TZID=UTC:20240602T170000
DTSTAMP:20260422T003908
CREATED:20240522T202432Z
LAST-MODIFIED:20240522T202432Z
UID:529-1717340400-1717347600@fleischertoons.com
SUMMARY:Niles Essanay Silent Film Museum\, Fremont\, CA
DESCRIPTION:Join us for a newly restored Betty Boop cartoons from the legendary Fleischer Studios! These films have been lovingly restored from original film elements by Max Fleischer’s granddaughter\, Jane.
URL:https://fleischertoons.com/event/niles-essanay-silent-film-museum-fremont-ca/
LOCATION:MI
END:VEVENT
BEGIN:VEVENT
DTSTART;TZID=UTC:20240525T140000
DTEND;TZID=UTC:20240525T150000
DTSTAMP:20260422T003908
CREATED:20240522T201856Z
LAST-MODIFIED:20240522T201856Z
UID:527-1716645600-1716649200@fleischertoons.com
SUMMARY:Cinema Museum\, London\, UK
DESCRIPTION:Join us for a night of brand new restorations featuring the cartoons of Betty Boop\, Koko the Clown\, Popeye\, Superman\, and more! These films have been lovingly restored from original film elements by Max Fleischer’s granddaughter\, Jane. \nDoors open at 13.00\, for a 14.00 start.
URL:https://fleischertoons.com/event/cinema-museum-london-uk/
LOCATION:MI
END:VEVENT
BEGIN:VEVENT
DTSTART;TZID=UTC:20240522T180000
DTEND;TZID=UTC:20240523T180000
DTSTAMP:20260422T003908
CREATED:20240522T201251Z
LAST-MODIFIED:20240522T201251Z
UID:525-1716400800-1716487200@fleischertoons.com
SUMMARY:The Guild Cinema\, Albuquerque\, New Mexico
DESCRIPTION:Join us for a night of brand new restorations featuring the cartoons of Betty Boop\, Koko the Clown\, Popeye\, Superman\, and more!
URL:https://fleischertoons.com/event/the-guild-cinema-albuquerque-new-mexico/
LOCATION:MI
END:VEVENT
BEGIN:VEVENT
DTSTART;TZID=UTC:20240315T080000
DTEND;TZID=UTC:20240318T170000
DTSTAMP:20260422T003908
CREATED:20240124T211755Z
LAST-MODIFIED:20240124T211755Z
UID:496-1710489600-1710781200@fleischertoons.com
SUMMARY:Westdale Theater\, Canada
DESCRIPTION:Come watch a whole bunch of newly restored Fleischer Studios cartoons at the Westdale Theater in Hamilton\, Ontario. Check the website for times and tickets.
URL:https://fleischertoons.com/event/westdale-theater-canada/
LOCATION:Westdale Theater\, 1014 King Street\, W. Hamilton\, Ontario\, Canada
END:VEVENT
BEGIN:VEVENT
DTSTART;VALUE=DATE:20240307
DTEND;VALUE=DATE:20240314
DTSTAMP:20260422T003908
CREATED:20240124T210318Z
LAST-MODIFIED:20240124T210424Z
UID:488-1709769600-1710374399@fleischertoons.com
SUMMARY:Museum of Modern Art
DESCRIPTION:MoMA is celebrating the work of Max Fleischer and Fleischer Studios. 2 screenings a day\, 3 on Sunday. Come join us for this 7 day event and watch lots of cartoons!
URL:https://fleischertoons.com/event/museum-of-modern-art/
LOCATION:Museum of Modern Art\, 11 West 53rd Street\, Manhattan\, NY\, United States
END:VEVENT
BEGIN:VEVENT
DTSTART;TZID=UTC:20240110T080000
DTEND;TZID=UTC:20240205T170000
DTSTAMP:20260422T003908
CREATED:20240124T211220Z
LAST-MODIFIED:20240124T211220Z
UID:494-1704873600-1707152400@fleischertoons.com
SUMMARY:Thailand Biennale
DESCRIPTION:Our newly-restored Minnie the Moocher cartoon is playing at the Cinema For All Pavilion from January 10 to February 5\, 2024. There are 3 screenings daily\, Wednesday through Monday (no show Tuesdays) as part of the “What Lies Beneath: Notes From The Underground” program.
URL:https://fleischertoons.com/event/thailand-biennale/
LOCATION:MI
END:VEVENT
BEGIN:VEVENT
DTSTART;TZID=UTC:20231111T190000
DTEND;TZID=UTC:20231111T190000
DTSTAMP:20260422T003908
CREATED:20230831T002835Z
LAST-MODIFIED:20230831T032445Z
UID:448-1699729200-1699729200@fleischertoons.com
SUMMARY:Cinema Arts Center\, Huntington\, NY
DESCRIPTION:Come celebrate the art & inventions of Max Fleischer with a block of newly restored cartoons featuring Betty Boop\, Koko The Clown\, Popeye the Sailor Man and more!
URL:https://fleischertoons.com/event/cinema-arts-center-huntington-ny/
LOCATION:Cinema Arts Center\, Huntington\, CA\, 423 Park Ave.\, Huntington\, 11743\, United States
END:VEVENT
BEGIN:VEVENT
DTSTART;TZID=UTC:20231012T163000
DTEND;TZID=UTC:20231012T173000
DTSTAMP:20260422T003908
CREATED:20230817T223123Z
LAST-MODIFIED:20230831T004754Z
UID:303-1697128200-1697131800@fleischertoons.com
SUMMARY:ComicCon in New York
DESCRIPTION:Here is your chance to see a batch of newly restored cartoons featuring Koko the Clown\, Betty Boop\, Popeye\, and more. On hand will be Jane Fleischer\, granddaughter of Max Fleischer\, Frank Caruso\, Creative Director of Fleischer Studios\, and animation historian Ray Pointer\, to give an update on the restoration of the Max Fleischer library. Learn about the legacy and influence of Fleischer Studios.
URL:https://fleischertoons.com/event/comiccon-in-new-york/
LOCATION:Javitz Center New York\, 429 11th Ave.\, New York\, NY\, 10001\, United States
END:VEVENT
END:VCALENDAR