BEGIN:VCALENDAR
VERSION:2.0
PRODID:-//Fabulous Fleischer Cartoons Restored - ECPv6.15.20//NONSGML v1.0//EN
CALSCALE:GREGORIAN
METHOD:PUBLISH
X-WR-CALNAME:Fabulous Fleischer Cartoons Restored
X-ORIGINAL-URL:https://fleischertoons.com
X-WR-CALDESC:Events for Fabulous Fleischer Cartoons Restored
REFRESH-INTERVAL;VALUE=DURATION:PT1H
X-Robots-Tag:noindex
X-PUBLISHED-TTL:PT1H
BEGIN:VTIMEZONE
TZID:UTC
BEGIN:STANDARD
TZOFFSETFROM:+0000
TZOFFSETTO:+0000
TZNAME:UTC
DTSTART:20250101T000000
END:STANDARD
END:VTIMEZONE
BEGIN:VEVENT
DTSTART;TZID=UTC:20260509T133000
DTEND;TZID=UTC:20260509T150000
DTSTAMP:20260421T125416
CREATED:20260407T011050Z
LAST-MODIFIED:20260407T011050Z
UID:1212-1778333400-1778338800@fleischertoons.com
SUMMARY:Cameo Arthouse - Fayetteville\, NC
DESCRIPTION:Max Fleischer was a trailblazer in the field of animation\, pushing the boundaries of surreal\, rubber-hose artistry and pioneering groundbreaking techniques such as Rotoscoping\, the Stereoptical process\, and early synchronized sound animation. Now\, thanks to the magic of digital restoration\, you can join us an unforgettable journey through animation history from the legendary Fleischer Studios\, featuring iconic characters like Betty Boop\, Koko the Clown\, Popeye\, and more—all brought back to life in stunning 4K restorations presented on the big screen at the CAMEO on Saturday\, May 9th! \nFeaturing: Betty Boop and Grampy\, Imps – Koko’s Klock\, Popeye -I’m in the Army Now\, Betty – Mother Goose Land\, Screen Songs – Dinah\, Color Classics – Tears of an Onion\, Imps – Koko’s Kozy Korner\, Betty Boops Bizzy Bee \nRated All Ages; Runtime 1hr 20min
URL:https://fleischertoons.com/event/cameo-arthouse-fayetteville-nc-4/
LOCATION:Cameo Arthouse\, 225 Hay Street\, Fayetteville\, NC\, 28301\, United States
END:VEVENT
END:VCALENDAR